BEGIN:VCALENDAR
VERSION:2.0
PRODID:gov.georgia.gov
X-WR-TIMEZONE:America/New_York
BEGIN:VTIMEZONE
TZID:America/New_York
X-LIC-LOCATION:America/New_York
END:VTIMEZONE
BEGIN:VEVENT
UID:60a3be027d47b
DTSTART;TZID=UTC:20200130T183000
SEQUENCE:0
TRANSP:OPAQUE
URL:https://gov.georgia.gov/events/2020-01-30/first-ladys-130-pm-self-defen
 se-class
SUMMARY:First Lady's 1:30 PM Self-Defense Class
CLASS:PUBLIC
DESCRIPTION:The First Lady is partnering with Georgia Public Safety Trainin
 g Center instructors to teach two self-defense classes on Thursday\, Janua
 ry 30th. Both classes are open to the public\, but registration is requir
 ed.
DTSTAMP:20210518T091546Z
END:VEVENT
END:VCALENDAR