BEGIN:VCALENDAR
VERSION:2.0
PRODID:gov.georgia.gov
X-WR-TIMEZONE:America/New_York
BEGIN:VTIMEZONE
TZID:America/New_York
X-LIC-LOCATION:America/New_York
END:VTIMEZONE
BEGIN:VEVENT
UID:60a3be137ad93
DTSTART;TZID=UTC:20200130T140000
SEQUENCE:0
TRANSP:OPAQUE
URL:https://gov.georgia.gov/events/2020-01-30/first-ladys-9-am-self-defense
 -class
LOCATION:206 Washington St SW ATLANTA\, GA 30334
SUMMARY:First Lady's 9 AM Self-Defense Class
CLASS:PUBLIC
DESCRIPTION:The First Lady is partnering with Georgia Public Safety Trainin
 g Center instructors to teach two self-defense classes on Thursday\, Janua
 ry 30th. Both classes are open to the public\, but registration is requir
 ed.
DTSTAMP:20210518T091603Z
END:VEVENT
END:VCALENDAR